BEGIN:VCALENDAR
VERSION:2.0
PRODID:-//hacksw/handcal//NONSGML v1.0//EN
CALSCALE:GREGORIAN
BEGIN:VEVENT
LOCATION:Ment Beverage Co.\, Durham\, 312 Blackwell Street\, Durham\, NC
DESCRIPTION:https://triangleonthecheap.com/event/ment-beverage-co-6/
DTSTART;TZID=America/New_York:20260516T190000
DTEND;TZID=America/New_York:20260516T220000
SUMMARY:Medieval Night
URL;VALUE=URI:https://triangleonthecheap.com/event/ment-beverage-co-6/
DTSTAMP:20260425T174042
UID:69ed34dad7d04
END:VEVENT
END:VCALENDAR