BEGIN:VCALENDAR
VERSION:2.0
PRODID:-//hacksw/handcal//NONSGML v1.0//EN
CALSCALE:GREGORIAN
BEGIN:VEVENT
LOCATION:Ment Beverage Co.\, Durham\, 312 Blackwell Street\, Durham\, NC
DESCRIPTION:https://triangleonthecheap.com/event/ment-beverage-co-5/
DTSTART;TZID=America/New_York:20260512T170000
DTEND;TZID=America/New_York:20260512T200000
SUMMARY:Recipe Swap Night
URL;VALUE=URI:https://triangleonthecheap.com/event/ment-beverage-co-5/
DTSTAMP:20260425T174329
UID:69ed35814639f
END:VEVENT
END:VCALENDAR