BEGIN:VCALENDAR
VERSION:2.0
PRODID:-//hacksw/handcal//NONSGML v1.0//EN
CALSCALE:GREGORIAN
BEGIN:VEVENT
LOCATION:Ment Beverage Co.\, Durham\, 312 Blackwell Street\, Durham\, NC
DESCRIPTION:https://triangleonthecheap.com/event/ment-beverage-co-4/
DTSTART;TZID=America/New_York:20260507T180000
DTEND;TZID=America/New_York:20260507T235900
SUMMARY:Art Swap with Durham Art Guild
URL;VALUE=URI:https://triangleonthecheap.com/event/ment-beverage-co-4/
DTSTAMP:20260425T174558
UID:69ed36167a824
END:VEVENT
END:VCALENDAR