BEGIN:VCALENDAR
VERSION:2.0
PRODID:-//hacksw/handcal//NONSGML v1.0//EN
CALSCALE:GREGORIAN
BEGIN:VEVENT
LOCATION:Durham Central Park\, 501 Foster St\, Durham\, NC
DESCRIPTION:https://triangleonthecheap.com/event/the-durham-craft-market-spring-fling/
DTSTART;TZID=America/New_York:20260503T100000
DTEND;TZID=America/New_York:20260503T150000
SUMMARY:The Durham Craft Market Spring Fling
URL;VALUE=URI:https://triangleonthecheap.com/event/the-durham-craft-market-spring-fling/
DTSTAMP:20260425T101819
UID:69eccd2b465aa
END:VEVENT
END:VCALENDAR