BEGIN:VCALENDAR
VERSION:2.0
PRODID:-//hacksw/handcal//NONSGML v1.0//EN
CALSCALE:GREGORIAN
BEGIN:VEVENT
LOCATION:The Durham Hotel\, 315 East Chapel Hill Street\, Durham\, NC
DESCRIPTION:https://triangleonthecheap.com/event/views-from-the-durham/
DTSTART;TZID=America/New_York:20260915T193000
DTEND;TZID=America/New_York:20260915T213000
SUMMARY:Views from the Durham
URL;VALUE=URI:https://triangleonthecheap.com/event/views-from-the-durham/
DTSTAMP:20260425T101925
UID:69eccd6de56db
END:VEVENT
END:VCALENDAR