BEGIN:VCALENDAR
VERSION:2.0
PRODID:-//hacksw/handcal//NONSGML v1.0//EN
CALSCALE:GREGORIAN
BEGIN:VEVENT
LOCATION:The Durham Hotel\, 315 East Chapel Hill Street\, Durham\, NC
DESCRIPTION:https://triangleonthecheap.com/event/views-from-the-durham-4/
DTSTART;TZID=America/New_York:20260721T203000
DTEND;TZID=America/New_York:20260721T223000
SUMMARY:Views from the Durham
URL;VALUE=URI:https://triangleonthecheap.com/event/views-from-the-durham-4/
DTSTAMP:20260425T102616
UID:69eccf08528b4
END:VEVENT
END:VCALENDAR