BEGIN:VCALENDAR
VERSION:2.0
PRODID:-//hacksw/handcal//NONSGML v1.0//EN
CALSCALE:GREGORIAN
BEGIN:VEVENT
LOCATION:The Durham Hotel\, 315 East Chapel Hill Street\, Durham\, NC
DESCRIPTION:https://triangleonthecheap.com/event/views-from-the-durham-3/
DTSTART;TZID=America/New_York:20260609T210000
DTEND;TZID=America/New_York:20260609T230000
SUMMARY:Views from the Durham
URL;VALUE=URI:https://triangleonthecheap.com/event/views-from-the-durham-3/
DTSTAMP:20260425T120541
UID:69ece6552b1fe
END:VEVENT
END:VCALENDAR