BEGIN:VCALENDAR
VERSION:2.0
PRODID:-//hacksw/handcal//NONSGML v1.0//EN
CALSCALE:GREGORIAN
BEGIN:VEVENT
LOCATION:Chapel Hill Public Library\, 100 Library Drive\, Chapel Hill\, NC
DESCRIPTION:https://triangleonthecheap.com/event/moon-party-chapel-hill-library/
DTSTART;TZID=America/New_York:20260426T140000
DTEND;TZID=America/New_York:20260426T160000
SUMMARY:Moon Party at Chapel Hill Public Library
URL;VALUE=URI:https://triangleonthecheap.com/event/moon-party-chapel-hill-library/
DTSTAMP:20260425T120508
UID:69ece6347f378
END:VEVENT
END:VCALENDAR