BEGIN:VCALENDAR
VERSION:2.0
PRODID:-//hacksw/handcal//NONSGML v1.0//EN
CALSCALE:GREGORIAN
BEGIN:VEVENT
LOCATION:The Backyard (Fenton\, Cary)\, 850 Lower Garden Lane\, Cary\, NC
DESCRIPTION:https://triangleonthecheap.com/event/pilates-addiction-cary/
DTSTART;TZID=America/New_York:20260502T090000
DTEND;TZID=America/New_York:20260502T100000
SUMMARY:Lulu Lemon Fenton & Pilates Addiction Cary — National Pilates Day Pop Up
URL;VALUE=URI:https://triangleonthecheap.com/event/pilates-addiction-cary/
DTSTAMP:20260424T094753
UID:69eb748968dfe
END:VEVENT
END:VCALENDAR