BEGIN:VCALENDAR
VERSION:2.0
PRODID:-//hacksw/handcal//NONSGML v1.0//EN
CALSCALE:GREGORIAN
BEGIN:VEVENT
LOCATION:Raleigh City Farm\, 800 N Blount St\, Raleigh\, NC
DESCRIPTION:https://triangleonthecheap.com/event/raleigh-city-farm-bearthday/
DTSTART;TZID=America/New_York:20260425T100000
DTEND;TZID=America/New_York:20260425T140000
SUMMARY:Raleigh City Farm: Bearthday -- Earth Day and 15th Anniversary Celebration
URL;VALUE=URI:https://triangleonthecheap.com/event/raleigh-city-farm-bearthday/
DTSTAMP:20260423T123429
UID:69ea4a1587e45
END:VEVENT
END:VCALENDAR