BEGIN:VCALENDAR
VERSION:2.0
PRODID:-//hacksw/handcal//NONSGML v1.0//EN
CALSCALE:GREGORIAN
BEGIN:VEVENT
LOCATION:Sanderford Road Park\, Raleigh\, 2623 Sanderford Road\, Raleigh\, NC
DESCRIPTION:https://triangleonthecheap.com/event/caribbean-link-up/
DTSTART;TZID=America/New_York:20260425T150000
DTEND;TZID=America/New_York:20260425T190000
SUMMARY:Caribbean Link Up Festival
URL;VALUE=URI:https://triangleonthecheap.com/event/caribbean-link-up/
DTSTAMP:20260423T160653
UID:69ea7bdd8d46f
END:VEVENT
END:VCALENDAR