BEGIN:VCALENDAR
VERSION:2.0
PRODID:-//hacksw/handcal//NONSGML v1.0//EN
CALSCALE:GREGORIAN
BEGIN:VEVENT
LOCATION:Highland United Methodist Church\, Raleigh\, 1901 Ridge Road\, Raleigh\, NC
DESCRIPTION:https://triangleonthecheap.com/event/creation-celebration-highland-umc/
DTSTART;TZID=America/New_York:20260426T160000
DTEND;TZID=America/New_York:20260426T180000
SUMMARY:Creation Celebration at Highland UMC -- free food\, games\, entertainment\, more...
URL;VALUE=URI:https://triangleonthecheap.com/event/creation-celebration-highland-umc/
DTSTAMP:20260423T124929
UID:69ea4d996649f
END:VEVENT
END:VCALENDAR