BEGIN:VCALENDAR
VERSION:2.0
PRODID:-//hacksw/handcal//NONSGML v1.0//EN
CALSCALE:GREGORIAN
BEGIN:VEVENT
LOCATION:The Cary Theater\, 122 E Chatham S\, Cary\, NC
DESCRIPTION:https://triangleonthecheap.com/event/the-broadside/
DTSTART;TZID=America/New_York:20260513T190000
DTEND;TZID=America/New_York:20260513T235900
SUMMARY:“The Broadside” Presents: An Evening of Asian American Storytelling
URL;VALUE=URI:https://triangleonthecheap.com/event/the-broadside/
DTSTAMP:20260420T212537
UID:69e6d211bccce
END:VEVENT
END:VCALENDAR