BEGIN:VCALENDAR
VERSION:2.0
PRODID:-//hacksw/handcal//NONSGML v1.0//EN
CALSCALE:GREGORIAN
BEGIN:VEVENT
LOCATION:The Plant\, Pittsboro\, 213 Lorax Lane\, Pittsboro\, NC
DESCRIPTION:https://triangleonthecheap.com/event/cinco-de-mayo-the-plant/
DTSTART;TZID=America/New_York:20260505T170000
DTEND;TZID=America/New_York:20260505T200000
SUMMARY:Cinco de Mayo Fiesta at The Plant
URL;VALUE=URI:https://triangleonthecheap.com/event/cinco-de-mayo-the-plant/
DTSTAMP:20260419T230937
UID:69e598f1ad77d
END:VEVENT
END:VCALENDAR