BEGIN:VCALENDAR
VERSION:2.0
PRODID:-//hacksw/handcal//NONSGML v1.0//EN
CALSCALE:GREGORIAN
BEGIN:VEVENT
LOCATION:The Mason Jar Lager Company\, Fuquay-Varina\, 341 E Broad St\, Fuquay-Varina\, NC
DESCRIPTION:https://triangleonthecheap.com/event/mason-jar-lager-company-fuquay-varina-3/
DTSTART;TZID=America/New_York:20260424T190000
DTEND;TZID=America/New_York:20260424T235900
SUMMARY:Live Music: Snap Back
URL;VALUE=URI:https://triangleonthecheap.com/event/mason-jar-lager-company-fuquay-varina-3/
DTSTAMP:20260423T115456
UID:69ea40d0f1d50
END:VEVENT
END:VCALENDAR