BEGIN:VCALENDAR
VERSION:2.0
PRODID:-//hacksw/handcal//NONSGML v1.0//EN
CALSCALE:GREGORIAN
BEGIN:VEVENT
LOCATION:Historic Yates Mill County Park\, 4620 Lake Wheeler Rd\, Raleigh\, NC
DESCRIPTION:https://triangleonthecheap.com/event/free-events-historic-yates-mill-county-park-10/
DTSTART;TZID=America/New_York:20260525T100000
DTEND;TZID=America/New_York:20260525T113000
SUMMARY:Guided Canoe Paddle
URL;VALUE=URI:https://triangleonthecheap.com/event/free-events-historic-yates-mill-county-park-10/
DTSTAMP:20260423T084735
UID:69ea14e7661f8
END:VEVENT
END:VCALENDAR