BEGIN:VCALENDAR
VERSION:2.0
PRODID:-//hacksw/handcal//NONSGML v1.0//EN
CALSCALE:GREGORIAN
BEGIN:VEVENT
LOCATION:Historic Yates Mill County Park\, 4620 Lake Wheeler Rd\, Raleigh\, NC
DESCRIPTION:https://triangleonthecheap.com/event/free-events-historic-yates-mill-county-park-9/
DTSTART;TZID=America/New_York:20260522T100000
DTEND;TZID=America/New_York:20260522T104500
SUMMARY:Park Tales: The Little Red Hen
URL;VALUE=URI:https://triangleonthecheap.com/event/free-events-historic-yates-mill-county-park-9/
DTSTAMP:20260423T084850
UID:69ea153216aa8
END:VEVENT
END:VCALENDAR