BEGIN:VCALENDAR
VERSION:2.0
PRODID:-//hacksw/handcal//NONSGML v1.0//EN
CALSCALE:GREGORIAN
BEGIN:VEVENT
LOCATION:Historic Yates Mill County Park\, 4620 Lake Wheeler Rd\, Raleigh\, NC
DESCRIPTION:https://triangleonthecheap.com/event/free-events-historic-yates-mill-county-park-8/
DTSTART;TZID=America/New_York:20260509T103000
DTEND;TZID=America/New_York:20260509T113000
SUMMARY:Handcrafting History: Make a Pincushion
URL;VALUE=URI:https://triangleonthecheap.com/event/free-events-historic-yates-mill-county-park-8/
DTSTAMP:20260423T084607
UID:69ea148fed434
END:VEVENT
END:VCALENDAR