BEGIN:VCALENDAR
VERSION:2.0
PRODID:-//hacksw/handcal//NONSGML v1.0//EN
CALSCALE:GREGORIAN
BEGIN:VEVENT
LOCATION:Historic Yates Mill County Park\, 4620 Lake Wheeler Rd\, Raleigh\, NC
DESCRIPTION:https://triangleonthecheap.com/event/free-events-historic-yates-mill-county-park-6/
DTSTART;TZID=America/New_York:20260425T130000
DTEND;TZID=America/New_York:20260425T150000
SUMMARY:Yates Mill Aquatic Conservation Center: Open House Tour
URL;VALUE=URI:https://triangleonthecheap.com/event/free-events-historic-yates-mill-county-park-6/
DTSTAMP:20260423T085839
UID:69ea177f92441
END:VEVENT
END:VCALENDAR