BEGIN:VCALENDAR
VERSION:2.0
PRODID:-//hacksw/handcal//NONSGML v1.0//EN
CALSCALE:GREGORIAN
BEGIN:VEVENT
LOCATION:Historic Yates Mill County Park\, 4620 Lake Wheeler Rd\, Raleigh\, NC
DESCRIPTION:https://triangleonthecheap.com/event/free-events-historic-yates-mill-county-park-5/
DTSTART;TZID=America/New_York:20260425T100000
DTEND;TZID=America/New_York:20260425T120000
SUMMARY:Yates Mill Aquatic Conservation Center: Open House Tour
URL;VALUE=URI:https://triangleonthecheap.com/event/free-events-historic-yates-mill-county-park-5/
DTSTAMP:20260423T103132
UID:69ea2d4450c71
END:VEVENT
END:VCALENDAR