BEGIN:VCALENDAR
VERSION:2.0
PRODID:-//hacksw/handcal//NONSGML v1.0//EN
CALSCALE:GREGORIAN
BEGIN:VEVENT
LOCATION:Lanza's Cafe\, Carrboro\, 601 W Main Street\, Carrboro\, NC
DESCRIPTION:https://triangleonthecheap.com/event/lanzas-cafe-carrboro-4/
DTSTART;TZID=America/New_York:20260509T103000
DTEND;TZID=America/New_York:20260509T130000
SUMMARY:Unplugged & Unfiltered: Cam Brown Live
URL;VALUE=URI:https://triangleonthecheap.com/event/lanzas-cafe-carrboro-4/
DTSTAMP:20260422T225415
UID:69e989d75d839
END:VEVENT
END:VCALENDAR