BEGIN:VCALENDAR
VERSION:2.0
PRODID:-//hacksw/handcal//NONSGML v1.0//EN
CALSCALE:GREGORIAN
BEGIN:VEVENT
LOCATION:The Glass Jug Downtown Durham Taproom\, 545 Foster Street\, Durham\, NC
DESCRIPTION:https://triangleonthecheap.com/event/glass-jug-downtown-durham-5/
DTSTART;TZID=America/New_York:20260503T120000
DTEND;TZID=America/New_York:20260503T150000
SUMMARY:Spring Cleaning Swap Party
URL;VALUE=URI:https://triangleonthecheap.com/event/glass-jug-downtown-durham-5/
DTSTAMP:20260423T164933
UID:69ea85dd6a0a9
END:VEVENT
END:VCALENDAR