BEGIN:VCALENDAR
VERSION:2.0
PRODID:-//hacksw/handcal//NONSGML v1.0//EN
CALSCALE:GREGORIAN
BEGIN:VEVENT
LOCATION:Exchange Plaza\, Raleigh\, 219 Fayetteville Street\, Raleigh\, NC
DESCRIPTION:https://triangleonthecheap.com/event/bike-month-raleigh-3/
DTSTART;TZID=America/New_York:20260502T100000
DTEND;TZID=America/New_York:20260502T120000
SUMMARY:Raleigh Historic Bike Ride
URL;VALUE=URI:https://triangleonthecheap.com/event/bike-month-raleigh-3/
DTSTAMP:20260422T171128
UID:69e93980940e8
END:VEVENT
END:VCALENDAR