BEGIN:VCALENDAR
VERSION:2.0
PRODID:-//hacksw/handcal//NONSGML v1.0//EN
CALSCALE:GREGORIAN
BEGIN:VEVENT
LOCATION:JC Raulston Arboretum\, 4415 Beryl Road\, Raleigh\, NC
DESCRIPTION:https://triangleonthecheap.com/event/jc-raulston-arboretum-3/
DTSTART;TZID=America/New_York:20260512T163000
DTEND;TZID=America/New_York:20260512T193000
SUMMARY:Evening Garden Stroll
URL;VALUE=URI:https://triangleonthecheap.com/event/jc-raulston-arboretum-3/
DTSTAMP:20260423T221458
UID:69ead22275838
END:VEVENT
END:VCALENDAR