BEGIN:VCALENDAR
VERSION:2.0
PRODID:-//hacksw/handcal//NONSGML v1.0//EN
CALSCALE:GREGORIAN
BEGIN:VEVENT
LOCATION:JC Raulston Arboretum\, 4415 Beryl Road\, Raleigh\, NC
DESCRIPTION:https://triangleonthecheap.com/event/jc-raulston-arboretum/
DTSTART;TZID=America/New_York:20260505T090000
DTEND;TZID=America/New_York:20260505T100000
SUMMARY:Plant-Lover's Tour: Mexican Plants
URL;VALUE=URI:https://triangleonthecheap.com/event/jc-raulston-arboretum/
DTSTAMP:20260423T221615
UID:69ead26f993e5
END:VEVENT
END:VCALENDAR