BEGIN:VCALENDAR
VERSION:2.0
PRODID:-//hacksw/handcal//NONSGML v1.0//EN
CALSCALE:GREGORIAN
BEGIN:VEVENT
LOCATION:Raleigh Wine Shop\, 317 S Bloodworth Street\, Raleigh\, NC
DESCRIPTION:https://triangleonthecheap.com/event/free-wine-tasting-raleigh-wine-shop-5/
DTSTART;TZID=America/New_York:20260424T180000
DTEND;TZID=America/New_York:20260424T200000
SUMMARY:Madson Wines Free Tasting & Bar Takeover
URL;VALUE=URI:https://triangleonthecheap.com/event/free-wine-tasting-raleigh-wine-shop-5/
DTSTAMP:20260423T115855
UID:69ea41bf239f9
END:VEVENT
END:VCALENDAR