BEGIN:VCALENDAR
VERSION:2.0
PRODID:-//hacksw/handcal//NONSGML v1.0//EN
CALSCALE:GREGORIAN
BEGIN:VEVENT
LOCATION:Raleigh Wine Shop\, 317 S Bloodworth Street\, Raleigh\, NC
DESCRIPTION:https://triangleonthecheap.com/event/free-wine-tasting-raleigh-wine-shop-3/
DTSTART;TZID=America/New_York:20260423T190000
DTEND;TZID=America/New_York:20260423T203000
SUMMARY:Monthly Trivia Night at Raleigh Wine Shop
URL;VALUE=URI:https://triangleonthecheap.com/event/free-wine-tasting-raleigh-wine-shop-3/
DTSTAMP:20260423T115907
UID:69ea41cb0d0af
END:VEVENT
END:VCALENDAR