BEGIN:VCALENDAR
VERSION:2.0
PRODID:-//hacksw/handcal//NONSGML v1.0//EN
CALSCALE:GREGORIAN
BEGIN:VEVENT
LOCATION:Bull City Ciderworks\, Durham\, 305 S Roxboro St\, Durham\, NC
DESCRIPTION:https://triangleonthecheap.com/event/bull-city-ciderworks/
DTSTART;TZID=America/New_York:20260426T120000
DTEND;TZID=America/New_York:20260426T235900
SUMMARY:Spring Vendor Fair
URL;VALUE=URI:https://triangleonthecheap.com/event/bull-city-ciderworks/
DTSTAMP:20260421T231159
UID:69e83c7fe9527
END:VEVENT
END:VCALENDAR