BEGIN:VCALENDAR
VERSION:2.0
PRODID:-//hacksw/handcal//NONSGML v1.0//EN
CALSCALE:GREGORIAN
BEGIN:VEVENT
LOCATION:Fortnight Brewing\, Cary\, 1006 SW Maynard Rd\, Cary\, NC
DESCRIPTION:https://triangleonthecheap.com/event/events-fortnight-brewing-cary-4/
DTSTART;TZID=America/New_York:20260426T120000
DTEND;TZID=America/New_York:20260426T170000
SUMMARY:5th Annual Kids Fest
URL;VALUE=URI:https://triangleonthecheap.com/event/events-fortnight-brewing-cary-4/
DTSTAMP:20260423T012410
UID:69e9acfa597e8
END:VEVENT
END:VCALENDAR