BEGIN:VCALENDAR
VERSION:2.0
PRODID:-//hacksw/handcal//NONSGML v1.0//EN
CALSCALE:GREGORIAN
BEGIN:VEVENT
LOCATION:The Master's Hands Christian Church\, Raleigh\, 4204 Lake Ridge Drive\, Raleigh\, NC
DESCRIPTION:https://triangleonthecheap.com/event/masters-hands-free-market/
DTSTART;TZID=America/New_York:20260425T120000
DTEND;TZID=America/New_York:20260425T160000
SUMMARY:Community Free Market at The Master's Hands Christian Church
URL;VALUE=URI:https://triangleonthecheap.com/event/masters-hands-free-market/
DTSTAMP:20260420T193349
UID:69e6b7dd335eb
END:VEVENT
END:VCALENDAR