BEGIN:VCALENDAR
VERSION:2.0
PRODID:-//hacksw/handcal//NONSGML v1.0//EN
CALSCALE:GREGORIAN
BEGIN:VEVENT
LOCATION:Blackbird Brewery\, Wake Forest\, 3608 Rogers Branch Road\, Wake Forest\, NC
DESCRIPTION:https://triangleonthecheap.com/event/blackbird-brewery-9/
DTSTART;TZID=America/New_York:20260503T140000
DTEND;TZID=America/New_York:20260503T170000
SUMMARY:After Brunch Market
URL;VALUE=URI:https://triangleonthecheap.com/event/blackbird-brewery-9/
DTSTAMP:20260421T163708
UID:69e7dff455683
END:VEVENT
END:VCALENDAR