BEGIN:VCALENDAR
VERSION:2.0
PRODID:-//hacksw/handcal//NONSGML v1.0//EN
CALSCALE:GREGORIAN
BEGIN:VEVENT
LOCATION:The Mason Jar Lager Company\, Fuquay-Varina\, 341 E Broad St\, Fuquay-Varina\, NC
DESCRIPTION:https://triangleonthecheap.com/event/mason-jar-lager-company-fuquay-varina/
DTSTART;TZID=America/New_York:20260426T130000
DTEND;TZID=America/New_York:20260426T235900
SUMMARY:Bluegrass on the Patio
URL;VALUE=URI:https://triangleonthecheap.com/event/mason-jar-lager-company-fuquay-varina/
DTSTAMP:20260423T103516
UID:69ea2e242b8da
END:VEVENT
END:VCALENDAR