BEGIN:VCALENDAR
VERSION:2.0
PRODID:-//hacksw/handcal//NONSGML v1.0//EN
CALSCALE:GREGORIAN
BEGIN:VEVENT
LOCATION:New Hope Valley Railway\, 3900 Bonsal Road\, New Hill\, NC
DESCRIPTION:https://triangleonthecheap.com/event/tgi-f-ride-new-hope-valley-railway/
DTSTART;TZID=America/New_York:20260605T163000
DTEND;TZID=America/New_York:20260605T200000
SUMMARY:TGI F-Ride at New Hope Valley Railway
URL;VALUE=URI:https://triangleonthecheap.com/event/tgi-f-ride-new-hope-valley-railway/
DTSTAMP:20260420T213257
UID:69e6d3c9df6d7
END:VEVENT
END:VCALENDAR