BEGIN:VCALENDAR
VERSION:2.0
PRODID:-//hacksw/handcal//NONSGML v1.0//EN
CALSCALE:GREGORIAN
BEGIN:VEVENT
LOCATION:Gipson Play Plaza\, Dix Park\, Raleigh
DESCRIPTION:https://triangleonthecheap.com/event/taekwondo-dix-park-3/
DTSTART;TZID=America/New_York:20260509T130000
DTEND;TZID=America/New_York:20260509T235900
SUMMARY:Free Family Taekwondo (registration required)
URL;VALUE=URI:https://triangleonthecheap.com/event/taekwondo-dix-park-3/
DTSTAMP:20260420T120614
UID:69e64ef6ac527
END:VEVENT
END:VCALENDAR