BEGIN:VCALENDAR
VERSION:2.0
PRODID:-//hacksw/handcal//NONSGML v1.0//EN
CALSCALE:GREGORIAN
BEGIN:VEVENT
LOCATION:Harvey Hill at Dix Park\, 693 Palmer Drive\, Raleigh\, NC
DESCRIPTION:https://triangleonthecheap.com/event/tai-chi-dix-park-2/
DTSTART;TZID=America/New_York:20260519T180000
DTEND;TZID=America/New_York:20260519T235900
SUMMARY:Free Tai Chi in the Park (registration required)
URL;VALUE=URI:https://triangleonthecheap.com/event/tai-chi-dix-park-2/
DTSTAMP:20260420T210806
UID:69e6cdf69d395
END:VEVENT
END:VCALENDAR