BEGIN:VCALENDAR
VERSION:2.0
PRODID:-//hacksw/handcal//NONSGML v1.0//EN
CALSCALE:GREGORIAN
BEGIN:VEVENT
LOCATION:Three Bears Acres\, Creedmoor\, 9800 Belmont Drive\, Creedmoor\, NC
DESCRIPTION:https://triangleonthecheap.com/event/first-friday-skywatching-3/
DTSTART;TZID=America/New_York:20260501T200000
DTEND;TZID=America/New_York:20260501T230000
SUMMARY:First Friday Under the Stars -- Skywatching Event
URL;VALUE=URI:https://triangleonthecheap.com/event/first-friday-skywatching-3/
DTSTAMP:20260421T182934
UID:69e7fa4eeacc5
END:VEVENT
END:VCALENDAR