BEGIN:VCALENDAR
VERSION:2.0
PRODID:-//hacksw/handcal//NONSGML v1.0//EN
CALSCALE:GREGORIAN
BEGIN:VEVENT
LOCATION:Kirk of Kildaire Church\, Cary\, 200 High Meadow Drive\, Cary\, NC
DESCRIPTION:https://triangleonthecheap.com/event/repair-cafe-can-help-fix-stuff-free-3/
DTSTART;TZID=America/New_York:20260613T130000
DTEND;TZID=America/New_York:20260613T170000
SUMMARY:Repair Café in Cary
URL;VALUE=URI:https://triangleonthecheap.com/event/repair-cafe-can-help-fix-stuff-free-3/
DTSTAMP:20260420T091914
UID:69e627d277123
END:VEVENT
END:VCALENDAR