BEGIN:VCALENDAR
VERSION:2.0
PRODID:-//hacksw/handcal//NONSGML v1.0//EN
CALSCALE:GREGORIAN
BEGIN:VEVENT
LOCATION:Downtown Cary Park\, 321 South Academy Street\, Cary\, NC
DESCRIPTION:https://triangleonthecheap.com/event/wands-and-wonder-downtown-cary-park/
DTSTART;TZID=America/New_York:20260502T160000
DTEND;TZID=America/New_York:20260502T220000
SUMMARY:Wands and Wonder: Celebrating Worlds of Wizardry
URL;VALUE=URI:https://triangleonthecheap.com/event/wands-and-wonder-downtown-cary-park/
DTSTAMP:20260419T113257
UID:69e4f5a92e55f
END:VEVENT
END:VCALENDAR