BEGIN:VCALENDAR
VERSION:2.0
PRODID:-//hacksw/handcal//NONSGML v1.0//EN
CALSCALE:GREGORIAN
BEGIN:VEVENT
LOCATION:Dorothea Dix Park\, 2105 Umstead Dr\, Raleigh\, NC
DESCRIPTION:https://triangleonthecheap.com/event/yoga-dix-park-5/
DTSTART;TZID=America/New_York:20260621T060000
DTEND;TZID=America/New_York:20260621T070000
SUMMARY:Summer Solstice Sunrise Yoga at Flower Field at Dix Park
URL;VALUE=URI:https://triangleonthecheap.com/event/yoga-dix-park-5/
DTSTAMP:20260420T073106
UID:69e60e7a80ae1
END:VEVENT
END:VCALENDAR