BEGIN:VCALENDAR
VERSION:2.0
PRODID:-//hacksw/handcal//NONSGML v1.0//EN
CALSCALE:GREGORIAN
BEGIN:VEVENT
LOCATION:Old North State Food Hall\, Selma\, 67 JR Road\, Selma\, NC
DESCRIPTION:https://triangleonthecheap.com/event/old-north-state-food-hall-selma-2/
DTSTART;TZID=America/New_York:20260711T160000
DTEND;TZID=America/New_York:20260711T200000
SUMMARY:G + F Artisan Market
URL;VALUE=URI:https://triangleonthecheap.com/event/old-north-state-food-hall-selma-2/
DTSTAMP:20260421T060506
UID:69e74bd25ccd4
END:VEVENT
END:VCALENDAR