BEGIN:VCALENDAR
VERSION:2.0
PRODID:-//hacksw/handcal//NONSGML v1.0//EN
CALSCALE:GREGORIAN
BEGIN:VEVENT
LOCATION:Sweetwater Apex\, 2701 Lawnview Lane\, Apex\, NC
DESCRIPTION:https://triangleonthecheap.com/event/apex-underground-market-2/
DTSTART;TZID=America/New_York:20260502T110000
DTEND;TZID=America/New_York:20260502T150000
SUMMARY:Apex Underground Market
URL;VALUE=URI:https://triangleonthecheap.com/event/apex-underground-market-2/
DTSTAMP:20260425T133616
UID:69ecfb90e0e46
END:VEVENT
END:VCALENDAR