BEGIN:VCALENDAR
VERSION:2.0
PRODID:-//hacksw/handcal//NONSGML v1.0//EN
CALSCALE:GREGORIAN
BEGIN:VEVENT
LOCATION:
DESCRIPTION:https://triangleonthecheap.com/event/st-patricks-day-party-bull-mccabes-3/
DTSTART;TZID=America/New_York:20260421T060300
DTEND;TZID=America/New_York:20260421T060300
SUMMARY:St. Patrick's Day Party at Bull McCabe's
URL;VALUE=URI:https://triangleonthecheap.com/event/st-patricks-day-party-bull-mccabes-3/
DTSTAMP:20260421T060354
UID:69e74b8ad5e4a
END:VEVENT
END:VCALENDAR