BEGIN:VCALENDAR
VERSION:2.0
PRODID:-//hacksw/handcal//NONSGML v1.0//EN
CALSCALE:GREGORIAN
BEGIN:VEVENT
LOCATION:Blackbird Brewery\, Wake Forest\, 3608 Rogers Branch Road\, Wake Forest\, NC
DESCRIPTION:https://triangleonthecheap.com/event/blackbird-brewery-5/
DTSTART;TZID=America/New_York:20260430T170000
DTEND;TZID=America/New_York:20260430T200000
SUMMARY:Live Music: Blackbird Brewery
URL;VALUE=URI:https://triangleonthecheap.com/event/blackbird-brewery-5/
DTSTAMP:20260421T163459
UID:69e7df7315134
END:VEVENT
END:VCALENDAR