BEGIN:VCALENDAR
VERSION:2.0
PRODID:-//hacksw/handcal//NONSGML v1.0//EN
CALSCALE:GREGORIAN
BEGIN:VEVENT
LOCATION:Durham Central Park\, 501 Foster St\, Durham\, NC
DESCRIPTION:https://triangleonthecheap.com/event/food-truck-rodeos-durham-central-park-3/
DTSTART;TZID=America/New_York:20260927T120000
DTEND;TZID=America/New_York:20260927T160000
SUMMARY:Durham Central Park Food Truck Rodeo
URL;VALUE=URI:https://triangleonthecheap.com/event/food-truck-rodeos-durham-central-park-3/
DTSTAMP:20260421T122947
UID:69e7a5fb69f56
END:VEVENT
END:VCALENDAR