BEGIN:VCALENDAR
VERSION:2.0
PRODID:-//hacksw/handcal//NONSGML v1.0//EN
CALSCALE:GREGORIAN
BEGIN:VEVENT
LOCATION:Sunrise Community Farm Center\, Chapel Hill\, 6407 Millhouse Road\, Chapel Hill\, NC
DESCRIPTION:https://triangleonthecheap.com/event/sunrise-community-farm/
DTSTART;TZID=America/New_York:20260501T183000
DTEND;TZID=America/New_York:20260501T203000
SUMMARY:Swingin' Barn Dance with Durham Jazz Orchestra (pay what you can!)
URL;VALUE=URI:https://triangleonthecheap.com/event/sunrise-community-farm/
DTSTAMP:20260420T102838
UID:69e638163f607
END:VEVENT
END:VCALENDAR