BEGIN:VCALENDAR
VERSION:2.0
PRODID:-//hacksw/handcal//NONSGML v1.0//EN
CALSCALE:GREGORIAN
BEGIN:VEVENT
LOCATION:
DESCRIPTION:https://triangleonthecheap.com/event/the-williams-house-8/
DTSTART;TZID=America/New_York:20260422T044400
DTEND;TZID=America/New_York:20260422T044400
SUMMARY:Live music: Frances Eliza
URL;VALUE=URI:https://triangleonthecheap.com/event/the-williams-house-8/
DTSTAMP:20260422T044424
UID:69e88a68163f7
END:VEVENT
END:VCALENDAR