BEGIN:VCALENDAR
VERSION:2.0
PRODID:-//hacksw/handcal//NONSGML v1.0//EN
CALSCALE:GREGORIAN
BEGIN:VEVENT
LOCATION:
DESCRIPTION:https://triangleonthecheap.com/event/eid-bazaar-morrisville/
DTSTART;TZID=America/New_York:20260421T053800
DTEND;TZID=America/New_York:20260421T053800
SUMMARY:Eid Bazaar Night Market in Morrisville
URL;VALUE=URI:https://triangleonthecheap.com/event/eid-bazaar-morrisville/
DTSTAMP:20260421T053839
UID:69e7459f12798
END:VEVENT
END:VCALENDAR