BEGIN:VCALENDAR
VERSION:2.0
PRODID:-//hacksw/handcal//NONSGML v1.0//EN
CALSCALE:GREGORIAN
BEGIN:VEVENT
LOCATION:
DESCRIPTION:https://triangleonthecheap.com/event/womens-history-month-apex-2/
DTSTART;TZID=America/New_York:20260421T060600
DTEND;TZID=America/New_York:20260421T060600
SUMMARY:Women's History Month Tea Party
URL;VALUE=URI:https://triangleonthecheap.com/event/womens-history-month-apex-2/
DTSTAMP:20260421T060613
UID:69e74c15d58b7
END:VEVENT
END:VCALENDAR