BEGIN:VCALENDAR
VERSION:2.0
PRODID:-//hacksw/handcal//NONSGML v1.0//EN
CALSCALE:GREGORIAN
BEGIN:VEVENT
LOCATION:Qdoba (multiple locations)
DESCRIPTION:https://triangleonthecheap.com/event/qdoba-chips-queso-full-moon-11/
DTSTART;TZID=America/New_York:20261223T000000
DTEND;TZID=America/New_York:20261223T000000
SUMMARY:QDOBA Offers Free Chips & Queso for Every Full Moon
URL;VALUE=URI:https://triangleonthecheap.com/event/qdoba-chips-queso-full-moon-11/
DTSTAMP:20260424T165205
UID:69ebd7f57582e
END:VEVENT
END:VCALENDAR