BEGIN:VCALENDAR
VERSION:2.0
PRODID:-//hacksw/handcal//NONSGML v1.0//EN
CALSCALE:GREGORIAN
BEGIN:VEVENT
LOCATION:Qdoba (multiple locations)
DESCRIPTION:https://triangleonthecheap.com/event/qdoba-chips-queso-full-moon-10/
DTSTART;TZID=America/New_York:20261124T000000
DTEND;TZID=America/New_York:20261124T000000
SUMMARY:QDOBA Offers Free Chips & Queso for Every Full Moon
URL;VALUE=URI:https://triangleonthecheap.com/event/qdoba-chips-queso-full-moon-10/
DTSTAMP:20260424T151136
UID:69ebc0681800d
END:VEVENT
END:VCALENDAR